BEGIN:VCALENDAR
VERSION:2.0
PRODID:-//Unionhilfswerk //NONSGML Events //EN
CALSCALE:GREGORIAN
X-WR-CALNAME:Unionhilfswerk
BEGIN:VEVENT
CREATED:20240718T081133
UID:5741
DTSTART;VALUE=DATE:20241002T120000
DTEND;VALUE=DATE:20241002T140000
DTSTAMP:20260422T084216
LOCATION:\, \,  
DESCRIPTION:
SUMMARY:Kinoausflug zur alten Brotfabrik
ORGANIZER:
URL;VALUE=URI:https://www.unionhilfswerk.de/ueber-uns/landesverband-berlin/termine/kinoausflug-zur-alten-brotfabrik/
TRANSP:OPAQUE
END:VEVENT
END:VCALENDAR
