BEGIN:VCALENDAR
VERSION:2.0
PRODID:-//Unionhilfswerk //NONSGML Events //EN
CALSCALE:GREGORIAN
X-WR-CALNAME:Unionhilfswerk
BEGIN:VEVENT
CREATED:20240718T081539
UID:5744
DTSTART;VALUE=DATE:20241015T140000
DTEND;VALUE=DATE:20241015T160000
DTSTAMP:20260422T084228
LOCATION:Seniorenbegegnungsstätte Friedrichshain\, Singerstraße 83\, 10243 Berlin
DESCRIPTION:
SUMMARY:BINGO!
ORGANIZER:
URL;VALUE=URI:https://www.unionhilfswerk.de/ueber-uns/landesverband-berlin/termine/bingo-4/
TRANSP:OPAQUE
END:VEVENT
END:VCALENDAR
