BEGIN:VCALENDAR
VERSION:2.0
PRODID:-//Unionhilfswerk //NONSGML Events //EN
CALSCALE:GREGORIAN
X-WR-CALNAME:Unionhilfswerk
BEGIN:VEVENT
CREATED:20240718T100250
UID:5749
DTSTART;VALUE=DATE:20241113T143000
DTEND;VALUE=DATE:20241113T163000
DTSTAMP:20260422T084228
LOCATION:Seniorenbegegnungsstätte Friedrichshain\, Singerstraße 83\, 10243 Berlin
DESCRIPTION:
SUMMARY:Tanzmusik ….
ORGANIZER:
URL;VALUE=URI:https://www.unionhilfswerk.de/ueber-uns/landesverband-berlin/termine/tanzmusik/
TRANSP:OPAQUE
END:VEVENT
END:VCALENDAR
