BEGIN:VCALENDAR
VERSION:2.0
PRODID:-//Unionhilfswerk //NONSGML Events //EN
CALSCALE:GREGORIAN
X-WR-CALNAME:Unionhilfswerk
BEGIN:VEVENT
CREATED:20240718T101625
UID:5753
DTSTART;VALUE=DATE:20241128T140000
DTEND;VALUE=DATE:20241128T163000
DTSTAMP:20260422T084217
LOCATION:Seniorenbegegnungsstätte Friedrichshain\, Singerstraße 83\, 10243 Berlin
DESCRIPTION:
SUMMARY:Musikalisch-literarischer Nachmittag ….
ORGANIZER:
URL;VALUE=URI:https://www.unionhilfswerk.de/ueber-uns/landesverband-berlin/termine/musikalisch-literarischer-nachmittag/
TRANSP:OPAQUE
END:VEVENT
END:VCALENDAR
