BEGIN:VCALENDAR
VERSION:2.0
PRODID:-//Unionhilfswerk //NONSGML Events //EN
CALSCALE:GREGORIAN
X-WR-CALNAME:Unionhilfswerk
BEGIN:VEVENT
CREATED:20240814T144636
UID:5792
DTSTART;VALUE=DATE:20240922T140000
DTEND;VALUE=DATE:20240922T170000
DTSTAMP:20260422T084230
LOCATION:Mauerpark\, Bernauer Str. 63\, 13355 Berlin
DESCRIPTION:Mitmachaktion
SUMMARY:Berlin erntet – Mach mit!
ORGANIZER:
URL;VALUE=URI:https://www.unionhilfswerk.de/engagement/termine/berlin-erntet-mach-mit/
TRANSP:OPAQUE
END:VEVENT
END:VCALENDAR
