BEGIN:VCALENDAR
VERSION:2.0
PRODID:-//Unionhilfswerk //NONSGML Events //EN
CALSCALE:GREGORIAN
X-WR-CALNAME:Unionhilfswerk
BEGIN:VEVENT
CREATED:20240814T145517
UID:5793
DTSTART;VALUE=DATE:20240925T100000
DTEND;VALUE=DATE:20240925T160000
DTSTAMP:20260423T082127
LOCATION:Besondere Wohnform Joachim-Fahl-Haus\, Am Nordufer 24/25\, 13351 Berlin
DESCRIPTION:Mitmachaktion
SUMMARY:Upcycling: Kreativ-Aktion mit Menschen mit Behinderungen
ORGANIZER:
URL;VALUE=URI:https://www.unionhilfswerk.de/engagement/termine/upcycling-kreativ-aktion-mit-menschen-mit-behinderungen/
TRANSP:OPAQUE
END:VEVENT
END:VCALENDAR
