BEGIN:VCALENDAR
VERSION:2.0
PRODID:-//Unionhilfswerk //NONSGML Events //EN
CALSCALE:GREGORIAN
X-WR-CALNAME:Unionhilfswerk
BEGIN:VEVENT
CREATED:20240814T150239
UID:5794
DTSTART;VALUE=DATE:20240927T093000
DTEND;VALUE=DATE:20240927T130000
DTSTAMP:20260423T083237
LOCATION:Kontakt- und Beratungsstätte Kreuzberg\, Waldemarstr. 33 A\, 10999 Berlin
DESCRIPTION:Mitmachaktion
SUMMARY:Gemeinsames Kochen mit Menschen mit psychischen Beeinträchtigungen
ORGANIZER:
URL;VALUE=URI:https://www.unionhilfswerk.de/engagement/termine/gemeinsames-kochen-mit-menschen-mit-psychischen-beeintraechtigungen-2/
TRANSP:OPAQUE
END:VEVENT
END:VCALENDAR
