BEGIN:VCALENDAR
VERSION:2.0
PRODID:-//Unionhilfswerk //NONSGML Events //EN
CALSCALE:GREGORIAN
X-WR-CALNAME:Unionhilfswerk
BEGIN:VEVENT
CREATED:20240903T083951
UID:5831
DTSTART;VALUE=DATE:20240910T103000
DTEND;VALUE=DATE:20240910T120000
DTSTAMP:20260422T084230
LOCATION:digital\, \,  
DESCRIPTION:Infoveranstaltung
SUMMARY:Diskussionsveranstaltung „Engagiert für Zusammenhalt und Demokratie“
ORGANIZER:
URL;VALUE=URI:https://www.unionhilfswerk.de/engagement/termine/diskussionsveranstaltung-engagiert-fuer-zusammenhalt-und-demokratie/
TRANSP:OPAQUE
END:VEVENT
END:VCALENDAR
