BEGIN:VCALENDAR
VERSION:2.0
PRODID:-//Unionhilfswerk //NONSGML Events //EN
CALSCALE:GREGORIAN
X-WR-CALNAME:Unionhilfswerk
BEGIN:VEVENT
CREATED:20240903T085210
UID:5832
DTSTART;VALUE=DATE:20241113T123000
DTEND;VALUE=DATE:20241113T153000
DTSTAMP:20260422T084228
LOCATION:Bundespressekonferenz\, Schiffbauerdamm 40\, 10117 Berlin
DESCRIPTION:Infoveranstaltung
SUMMARY:Besuch einer Regierungspressekonferenz
ORGANIZER:
URL;VALUE=URI:https://www.unionhilfswerk.de/engagement/termine/besuch-einer-regierungspressekonferenz/
TRANSP:OPAQUE
END:VEVENT
END:VCALENDAR
