BEGIN:VCALENDAR
VERSION:2.0
PRODID:-//Unionhilfswerk //NONSGML Events //EN
CALSCALE:GREGORIAN
X-WR-CALNAME:Unionhilfswerk
BEGIN:VEVENT
CREATED:20240905T143612
UID:5840
DTSTART;VALUE=DATE:20241107T180000
DTEND;VALUE=DATE:20241107T210000
DTSTAMP:20260423T082240
LOCATION:Hürdenspringer Projektbüro\, Karl-Marx-Platz 20\, 12043 Berlin
DESCRIPTION:Einstiegsqualifizierung
SUMMARY:Beginn Einstiegsqualifizierung Hürdenspringer Mentoring
ORGANIZER:
URL;VALUE=URI:https://www.unionhilfswerk.de/engagement/termine/beginn-einstiegsqualifizierung-huerdenspringer-mentoring-4/
TRANSP:OPAQUE
END:VEVENT
END:VCALENDAR
