BEGIN:VCALENDAR
VERSION:2.0
PRODID:-//Unionhilfswerk //NONSGML Events //EN
CALSCALE:GREGORIAN
X-WR-CALNAME:Unionhilfswerk
BEGIN:VEVENT
CREATED:20241104T152759
UID:5957
DTSTART;VALUE=DATE:20250213T000000
DTEND;VALUE=DATE:20250213T020000
DTSTAMP:20260422T084230
LOCATION:Selbsthilfe- und Stadtteilzentrum \, Eichhorster Weg 32\, 13435 Berlin
DESCRIPTION:
SUMMARY:Jahreshauptversammlung OTG Waidmannslust/ Lübars
ORGANIZER:
URL;VALUE=URI:https://www.unionhilfswerk.de/ueber-uns/landesverband-berlin/termine/jahreshauptversammlung-otg-waidmannslust-luebars/
TRANSP:OPAQUE
END:VEVENT
END:VCALENDAR
