BEGIN:VCALENDAR
VERSION:2.0
PRODID:-//Unionhilfswerk //NONSGML Events //EN
CALSCALE:GREGORIAN
X-WR-CALNAME:Unionhilfswerk
BEGIN:VEVENT
CREATED:20241106T122922
UID:5976
DTSTART;VALUE=DATE:20250213T170000
DTEND;VALUE=DATE:20250213T183000
DTSTAMP:20260423T083111
LOCATION:Unionhilfswerk Dienstleistungs.Campus\, Schwiebusser Str. 18\, 10965 Berlin
DESCRIPTION:Austausch- / Reflexionsrunde\r\nMit Erfahrungsexpert*innen von Social Inclusion Berlin e.V.
SUMMARY:Wenn Menschen mit Behinderungen sich engagieren
ORGANIZER:
URL;VALUE=URI:https://www.unionhilfswerk.de/engagement/termine/wenn-menschen-mit-behinderungen-sich-engagieren/
TRANSP:OPAQUE
END:VEVENT
END:VCALENDAR
