BEGIN:VCALENDAR
VERSION:2.0
PRODID:-//Unionhilfswerk //NONSGML Events //EN
CALSCALE:GREGORIAN
X-WR-CALNAME:Unionhilfswerk
BEGIN:VEVENT
CREATED:20241106T172910
UID:5983
DTSTART;VALUE=DATE:20250514T160000
DTEND;VALUE=DATE:20250514T190000
DTSTAMP:20260423T082058
LOCATION:Unionhilfswerk Dienstleistungs.Campus\, Schwiebusser Str. 18\, 10965 Berlin
DESCRIPTION:Fortbildung\r\nMit Ralf Behrendt, Mitarbeiter im Mobilitätshilfedienst Lichtenberg des Unionhilfswerks
SUMMARY:Umgang mit dem Rollstuhl
ORGANIZER:
URL;VALUE=URI:https://www.unionhilfswerk.de/engagement/termine/umgang-mit-dem-rollstuhl-3/
TRANSP:OPAQUE
END:VEVENT
END:VCALENDAR
