BEGIN:VCALENDAR
VERSION:2.0
PRODID:-//Unionhilfswerk //NONSGML Events //EN
CALSCALE:GREGORIAN
X-WR-CALNAME:Unionhilfswerk
BEGIN:VEVENT
CREATED:20241107T140840
UID:5989
DTSTART;VALUE=DATE:20250624T160000
DTEND;VALUE=DATE:20250624T190000
DTSTAMP:20260422T084227
LOCATION:Unionhilfswerk Dienstleistungs.Campus\, Schwiebusser Str. 18\, 10965  Berlin
DESCRIPTION:Fortbildung\r\nMit Sabine Weisshaar,  Coach und Gestaltberaterin
SUMMARY:Lebensübergänge resilient bewältigen – Übergang in den (Un-)Ruhestand gestalten
ORGANIZER:
URL;VALUE=URI:https://www.unionhilfswerk.de/engagement/termine/lebensuebergaenge-resilient-bewaeltigen-uebergang-in-den-un-ruhestand-gestalten/
TRANSP:OPAQUE
END:VEVENT
END:VCALENDAR
