BEGIN:VCALENDAR
VERSION:2.0
PRODID:-//Unionhilfswerk //NONSGML Events //EN
CALSCALE:GREGORIAN
X-WR-CALNAME:Unionhilfswerk
BEGIN:VEVENT
CREATED:20241107T141807
UID:5990
DTSTART;VALUE=DATE:20250702T150000
DTEND;VALUE=DATE:20250702T180000
DTSTAMP:20260422T084143
LOCATION:Unionhilfswerk Dienstleistungs.Campus\, Schwiebusser Str. 18\, 10965 Berlin
DESCRIPTION:Fortbildung\r\nMit Christel Schumacher,  Dipl. Sozialpädagogin, DCM Evaluatorin
SUMMARY:Demenz und Validation: Beziehungsgestaltung mit Menschen mit Demenz
ORGANIZER:
URL;VALUE=URI:https://www.unionhilfswerk.de/engagement/termine/demenz-und-validation-beziehungsgestaltung-mit-menschen-mit-demenz/
TRANSP:OPAQUE
END:VEVENT
END:VCALENDAR
