BEGIN:VCALENDAR
VERSION:2.0
PRODID:-//Unionhilfswerk //NONSGML Events //EN
CALSCALE:GREGORIAN
X-WR-CALNAME:Unionhilfswerk
BEGIN:VEVENT
CREATED:20241209T100931
UID:6264
DTSTART;VALUE=DATE:20250918T143000
DTEND;VALUE=DATE:20250918T163000
DTSTAMP:20260423T082058
LOCATION:Seniorenfreizeitstätte\, Am Mühlenberg 12\, 10825 Berlin
DESCRIPTION:
SUMMARY:Offene Tür
ORGANIZER:
URL;VALUE=URI:https://www.unionhilfswerk.de/ueber-uns/landesverband-berlin/termine/offene-tuer-14/
TRANSP:OPAQUE
END:VEVENT
END:VCALENDAR
