BEGIN:VCALENDAR
VERSION:2.0
PRODID:-//Unionhilfswerk //NONSGML Events //EN
CALSCALE:GREGORIAN
X-WR-CALNAME:Unionhilfswerk
BEGIN:VEVENT
CREATED:20241209T122331
UID:6276
DTSTART;VALUE=DATE:20250226T140000
DTEND;VALUE=DATE:20250226T160000
DTSTAMP:20260422T084111
LOCATION:Seniorenzentrum Friedrichshain\, Singerstraße 83\, 10243 Berlin
DESCRIPTION:
SUMMARY:Fasching im Bezirksverband Friedrichshain
ORGANIZER:
URL;VALUE=URI:https://www.unionhilfswerk.de/ueber-uns/landesverband-berlin/termine/fasching-im-bezirksverband-friedrichshain/
TRANSP:OPAQUE
END:VEVENT
END:VCALENDAR
