BEGIN:VCALENDAR
VERSION:2.0
PRODID:-//Unionhilfswerk //NONSGML Events //EN
CALSCALE:GREGORIAN
X-WR-CALNAME:Unionhilfswerk
BEGIN:VEVENT
CREATED:20241209T123542
UID:6282
DTSTART;VALUE=DATE:20250219T140000
DTEND;VALUE=DATE:20250219T170000
DTSTAMP:20260422T084322
LOCATION:Freizeitstätte Schillerpark\, Barfusstraße 22-24\, 13349 Berlin
DESCRIPTION:
SUMMARY:Fasching im Wedding
ORGANIZER:
URL;VALUE=URI:https://www.unionhilfswerk.de/ueber-uns/landesverband-berlin/termine/fasching-im-wedding/
TRANSP:OPAQUE
END:VEVENT
END:VCALENDAR
