BEGIN:VCALENDAR
VERSION:2.0
PRODID:-//Unionhilfswerk //NONSGML Events //EN
CALSCALE:GREGORIAN
X-WR-CALNAME:Unionhilfswerk
BEGIN:VEVENT
CREATED:20241209T133638
UID:6284
DTSTART;VALUE=DATE:20250319T140000
DTEND;VALUE=DATE:20250319T160000
DTSTAMP:20260422T083942
LOCATION:Freizeitstätte Schillerpark\, Barfusstraße 22-24\, 13349 Berlin
DESCRIPTION:
SUMMARY:Jahreshauptversammlung im Wedding
ORGANIZER:
URL;VALUE=URI:https://www.unionhilfswerk.de/ueber-uns/landesverband-berlin/termine/jahreshauptversammlung-im-wedding/
TRANSP:OPAQUE
END:VEVENT
END:VCALENDAR
