BEGIN:VCALENDAR
VERSION:2.0
PRODID:-//Unionhilfswerk //NONSGML Events //EN
CALSCALE:GREGORIAN
X-WR-CALNAME:Unionhilfswerk
BEGIN:VEVENT
CREATED:20241217T055152
UID:6290
DTSTART;VALUE=DATE:20250116T153000
DTEND;VALUE=DATE:20250116T173000
DTSTAMP:20260423T083238
LOCATION:Pflegewohnheim Am Plänterwald\, Neue Krugallee 142\, 12437 Berlin
DESCRIPTION:
SUMMARY:Literaturstunde
ORGANIZER:
URL;VALUE=URI:https://www.unionhilfswerk.de/ueber-uns/landesverband-berlin/termine/literaturstunde-6/
TRANSP:OPAQUE
END:VEVENT
END:VCALENDAR
