BEGIN:VCALENDAR
VERSION:2.0
PRODID:-//Unionhilfswerk //NONSGML Events //EN
CALSCALE:GREGORIAN
X-WR-CALNAME:Unionhilfswerk
BEGIN:VEVENT
CREATED:20241217T063631
UID:6295
DTSTART;VALUE=DATE:20250321T143000
DTEND;VALUE=DATE:20250321T160000
DTSTAMP:20260422T084015
LOCATION:Pflegewohnheim Alt Treptow\, Martin-Hoffmann-Straße 10\, 12435 Berlin
DESCRIPTION:
SUMMARY:Kaffeetafel
ORGANIZER:
URL;VALUE=URI:https://www.unionhilfswerk.de/ueber-uns/landesverband-berlin/termine/kaffeetafel-11/
TRANSP:OPAQUE
END:VEVENT
END:VCALENDAR
