BEGIN:VCALENDAR
VERSION:2.0
PRODID:-//Unionhilfswerk //NONSGML Events //EN
CALSCALE:GREGORIAN
X-WR-CALNAME:Unionhilfswerk
BEGIN:VEVENT
CREATED:20241217T071444
UID:6298
DTSTART;VALUE=DATE:20250208T100000
DTEND;VALUE=DATE:20250208T120000
DTSTAMP:20260422T084259
LOCATION:Seniorenklub Lindenufer\, Kulbeweg 24a\, 13587 Berlin
DESCRIPTION:
SUMMARY:Frühstücksbuffet
ORGANIZER:
URL;VALUE=URI:https://www.unionhilfswerk.de/ueber-uns/landesverband-berlin/termine/fruehstuecksbuffet-7/
TRANSP:OPAQUE
END:VEVENT
END:VCALENDAR
