BEGIN:VCALENDAR
VERSION:2.0
PRODID:-//Unionhilfswerk //NONSGML Events //EN
CALSCALE:GREGORIAN
X-WR-CALNAME:Unionhilfswerk
BEGIN:VEVENT
CREATED:20241217T072708
UID:6302
DTSTART;VALUE=DATE:20250125T120000
DTEND;VALUE=DATE:20250125T150000
DTSTAMP:20260422T084015
LOCATION:Seniorenfreizeitstätte Böhmisches Dorf\, Kirchgasse 62/ Ecke Richardstraße\, 12043 Berlin
DESCRIPTION:
SUMMARY:Neujahrsempfang
ORGANIZER:
URL;VALUE=URI:https://www.unionhilfswerk.de/ueber-uns/landesverband-berlin/termine/neujahrsempfang-4/
TRANSP:OPAQUE
END:VEVENT
END:VCALENDAR
