BEGIN:VCALENDAR
VERSION:2.0
PRODID:-//Unionhilfswerk //NONSGML Events //EN
CALSCALE:GREGORIAN
X-WR-CALNAME:Unionhilfswerk
BEGIN:VEVENT
CREATED:20241217T072921
UID:6303
DTSTART;VALUE=DATE:20250222T120000
DTEND;VALUE=DATE:20250222T150000
DTSTAMP:20260423T082220
LOCATION:Seniorenfreizeitstätte Böhmisches Dorf\, Kirchgasse 62/ Ecke Richardstraße\, 12043 Berlin
DESCRIPTION:
SUMMARY:Fasching im BV Neukölln
ORGANIZER:
URL;VALUE=URI:https://www.unionhilfswerk.de/ueber-uns/landesverband-berlin/termine/fasching-im-bv-neukoelln/
TRANSP:OPAQUE
END:VEVENT
END:VCALENDAR
