BEGIN:VCALENDAR
VERSION:2.0
PRODID:-//Unionhilfswerk //NONSGML Events //EN
CALSCALE:GREGORIAN
X-WR-CALNAME:Unionhilfswerk
BEGIN:VEVENT
CREATED:20241217T073418
UID:6305
DTSTART;VALUE=DATE:20250329T120000
DTEND;VALUE=DATE:20250329T150000
DTSTAMP:20260423T082153
LOCATION:Seniorenfreizeitstätte Böhmisches Dorf\, Kirchgasse 62/ Ecke Richardstraße\, 12043 Berlin
DESCRIPTION:
SUMMARY:Modenschau im BV Neukölln
ORGANIZER:
URL;VALUE=URI:https://www.unionhilfswerk.de/ueber-uns/landesverband-berlin/termine/modenschau-im-bv-neukoelln/
TRANSP:OPAQUE
END:VEVENT
END:VCALENDAR
