BEGIN:VCALENDAR
VERSION:2.0
PRODID:-//Unionhilfswerk //NONSGML Events //EN
CALSCALE:GREGORIAN
X-WR-CALNAME:Unionhilfswerk
BEGIN:VEVENT
CREATED:20241217T074413
UID:6308
DTSTART;VALUE=DATE:20250206T140000
DTEND;VALUE=DATE:20250206T163000
DTSTAMP:20260422T084216
LOCATION:\, \,  
DESCRIPTION:
SUMMARY:Faschingszeit
ORGANIZER:
URL;VALUE=URI:https://www.unionhilfswerk.de/ueber-uns/landesverband-berlin/termine/faschingszeit/
TRANSP:OPAQUE
END:VEVENT
END:VCALENDAR
