BEGIN:VCALENDAR
VERSION:2.0
PRODID:-//Unionhilfswerk //NONSGML Events //EN
CALSCALE:GREGORIAN
X-WR-CALNAME:Unionhilfswerk
BEGIN:VEVENT
CREATED:20241217T100027
UID:6311
DTSTART;VALUE=DATE:20250213T170000
DTEND;VALUE=DATE:20250213T190000
DTSTAMP:20260423T083230
LOCATION:Kieztreff Kiekemal\, Hultschiner Damm 84 A\, 12623 Berlin
DESCRIPTION:
SUMMARY:Die digitale Patientenakte
ORGANIZER:
URL;VALUE=URI:https://www.unionhilfswerk.de/ueber-uns/landesverband-berlin/termine/die-digitale-patientenakte/
TRANSP:OPAQUE
END:VEVENT
END:VCALENDAR
