BEGIN:VCALENDAR
VERSION:2.0
PRODID:-//Unionhilfswerk //NONSGML Events //EN
CALSCALE:GREGORIAN
X-WR-CALNAME:Unionhilfswerk
BEGIN:VEVENT
CREATED:20241217T100416
UID:6312
DTSTART;VALUE=DATE:20250306T170000
DTEND;VALUE=DATE:20250306T190000
DTSTAMP:20260423T082241
LOCATION:Kieztreff Kiekemal\, Hultschiner Damm 84 A\, 12623 Berlin
DESCRIPTION:
SUMMARY:Bankgeschäfte online – mein digitales Bankkonto
ORGANIZER:
URL;VALUE=URI:https://www.unionhilfswerk.de/ueber-uns/landesverband-berlin/termine/bankgeschaefte-online-mein-digitales-bankkonto/
TRANSP:OPAQUE
END:VEVENT
END:VCALENDAR
