BEGIN:VCALENDAR
VERSION:2.0
PRODID:-//Unionhilfswerk //NONSGML Events //EN
CALSCALE:GREGORIAN
X-WR-CALNAME:Unionhilfswerk
BEGIN:VEVENT
CREATED:20250127T073842
UID:6390
DTSTART;VALUE=DATE:20250416T000000
DTEND;VALUE=DATE:20250416T020000
DTSTAMP:20260422T084259
LOCATION:Kudamm Theater im Ernst Reuter Saal\, Eichborndamm 213\, 13437 Berlin
DESCRIPTION:
SUMMARY:Kudamm-Theater
ORGANIZER:
URL;VALUE=URI:https://www.unionhilfswerk.de/ueber-uns/landesverband-berlin/termine/kudamm-theater/
TRANSP:OPAQUE
END:VEVENT
END:VCALENDAR
