BEGIN:VCALENDAR
VERSION:2.0
PRODID:-//Unionhilfswerk //NONSGML Events //EN
CALSCALE:GREGORIAN
X-WR-CALNAME:Unionhilfswerk
BEGIN:VEVENT
CREATED:20250127T074442
UID:6392
DTSTART;VALUE=DATE:20251119T183000
DTEND;VALUE=DATE:20251119T203000
DTSTAMP:20260422T084300
LOCATION:Schlossparktheater\, Schlossstraße 48\, 12165 Berlin
DESCRIPTION:
SUMMARY:Schlossparktheater
ORGANIZER:
URL;VALUE=URI:https://www.unionhilfswerk.de/ueber-uns/landesverband-berlin/termine/schlossparktheater-3/
TRANSP:OPAQUE
END:VEVENT
END:VCALENDAR
