BEGIN:VCALENDAR
VERSION:2.0
PRODID:-//Unionhilfswerk //NONSGML Events //EN
CALSCALE:GREGORIAN
X-WR-CALNAME:Unionhilfswerk
BEGIN:VEVENT
CREATED:20250127T083429
UID:6396
DTSTART;VALUE=DATE:20250721T000000
DTEND;VALUE=DATE:20250721T020000
DTSTAMP:20260423T082219
LOCATION:\, \,  
DESCRIPTION:
SUMMARY:Schifffahrt
ORGANIZER:
URL;VALUE=URI:https://www.unionhilfswerk.de/ueber-uns/landesverband-berlin/termine/schifffahrt-3/
TRANSP:OPAQUE
END:VEVENT
END:VCALENDAR
