BEGIN:VCALENDAR
VERSION:2.0
PRODID:-//Unionhilfswerk //NONSGML Events //EN
CALSCALE:GREGORIAN
X-WR-CALNAME:Unionhilfswerk
BEGIN:VEVENT
CREATED:20250127T083600
UID:6397
DTSTART;VALUE=DATE:20250818T000000
DTEND;VALUE=DATE:20250818T020000
DTSTAMP:20260423T082155
LOCATION:\, \,  
DESCRIPTION:
SUMMARY:Schifffahrt
ORGANIZER:
URL;VALUE=URI:https://www.unionhilfswerk.de/ueber-uns/landesverband-berlin/termine/schifffahrt-4/
TRANSP:OPAQUE
END:VEVENT
END:VCALENDAR
