BEGIN:VCALENDAR
VERSION:2.0
PRODID:-//Unionhilfswerk //NONSGML Events //EN
CALSCALE:GREGORIAN
X-WR-CALNAME:Unionhilfswerk
BEGIN:VEVENT
CREATED:20250127T111659
UID:6400
DTSTART;VALUE=DATE:20250929T130000
DTEND;VALUE=DATE:20250929T150000
DTSTAMP:20260422T084057
LOCATION:\, \,  
DESCRIPTION:
SUMMARY:Schifffahrt
ORGANIZER:
URL;VALUE=URI:https://www.unionhilfswerk.de/ueber-uns/landesverband-berlin/termine/schifffahrt-7/
TRANSP:OPAQUE
END:VEVENT
END:VCALENDAR
