BEGIN:VCALENDAR
VERSION:2.0
PRODID:-//Unionhilfswerk //NONSGML Events //EN
CALSCALE:GREGORIAN
X-WR-CALNAME:Unionhilfswerk
BEGIN:VEVENT
CREATED:20250127T125023
UID:6411
DTSTART;VALUE=DATE:20250531T000000
DTEND;VALUE=DATE:20250609T020000
DTSTAMP:20260422T084106
LOCATION:\, \,  
DESCRIPTION:
SUMMARY:Kroatien
ORGANIZER:
URL;VALUE=URI:https://www.unionhilfswerk.de/ueber-uns/landesverband-berlin/termine/kroatien/
TRANSP:OPAQUE
END:VEVENT
END:VCALENDAR
