BEGIN:VCALENDAR
VERSION:2.0
PRODID:-//Unionhilfswerk //NONSGML Events //EN
CALSCALE:GREGORIAN
X-WR-CALNAME:Unionhilfswerk
BEGIN:VEVENT
CREATED:20250127T143846
UID:6415
DTSTART;VALUE=DATE:20250428T133000
DTEND;VALUE=DATE:20250428T163000
DTSTAMP:20260422T085340
LOCATION:Seniorenfreizeitstätte Böhmisches Dorf\, Richardstraße 78\, 12043 Berlin
DESCRIPTION:
SUMMARY:Spiel & Sport
ORGANIZER:
URL;VALUE=URI:https://www.unionhilfswerk.de/ueber-uns/landesverband-berlin/termine/spiel-sport/
TRANSP:OPAQUE
END:VEVENT
END:VCALENDAR
