BEGIN:VCALENDAR
VERSION:2.0
PRODID:-//Unionhilfswerk //NONSGML Events //EN
CALSCALE:GREGORIAN
X-WR-CALNAME:Unionhilfswerk
BEGIN:VEVENT
CREATED:20250127T144227
UID:6417
DTSTART;VALUE=DATE:20250524T133000
DTEND;VALUE=DATE:20250524T163000
DTSTAMP:20260423T082100
LOCATION:Seniorenfreizeitstätte Böhmisches Dorf\, Richardstraße 78\, 12043 Berlin
DESCRIPTION:
SUMMARY:Frühlingsfest
ORGANIZER:
URL;VALUE=URI:https://www.unionhilfswerk.de/ueber-uns/landesverband-berlin/termine/fruehlingsfest-3/
TRANSP:OPAQUE
END:VEVENT
END:VCALENDAR
