BEGIN:VCALENDAR
VERSION:2.0
PRODID:-//Unionhilfswerk //NONSGML Events //EN
CALSCALE:GREGORIAN
X-WR-CALNAME:Unionhilfswerk
BEGIN:VEVENT
CREATED:20250128T101303
UID:6445
DTSTART;VALUE=DATE:20250605T140000
DTEND;VALUE=DATE:20250605T163000
DTSTAMP:20260422T084058
LOCATION:\, \,  
DESCRIPTION:
SUMMARY:Ausflug nach Weißensee
ORGANIZER:
URL;VALUE=URI:https://www.unionhilfswerk.de/ueber-uns/landesverband-berlin/termine/ausflug-nach-weissensee/
TRANSP:OPAQUE
END:VEVENT
END:VCALENDAR
