BEGIN:VCALENDAR
VERSION:2.0
PRODID:-//Unionhilfswerk //NONSGML Events //EN
CALSCALE:GREGORIAN
X-WR-CALNAME:Unionhilfswerk
BEGIN:VEVENT
CREATED:20250128T102739
UID:6450
DTSTART;VALUE=DATE:20250409T140000
DTEND;VALUE=DATE:20250409T160000
DTSTAMP:20260422T084144
LOCATION:Freizeitstätte Schillerpark\, Barfusstraße 22-24\, 13349 Berlin
DESCRIPTION:
SUMMARY:Vortrag zum Einbruchschutz
ORGANIZER:
URL;VALUE=URI:https://www.unionhilfswerk.de/ueber-uns/landesverband-berlin/termine/vortrag-zum-einbruchschutz/
TRANSP:OPAQUE
END:VEVENT
END:VCALENDAR
