BEGIN:VCALENDAR
VERSION:2.0
PRODID:-//Unionhilfswerk //NONSGML Events //EN
CALSCALE:GREGORIAN
X-WR-CALNAME:Unionhilfswerk
BEGIN:VEVENT
CREATED:20250128T112215
UID:6474
DTSTART;VALUE=DATE:20250614T100000
DTEND;VALUE=DATE:20250614T120000
DTSTAMP:20260422T084056
LOCATION:Seniorenklub Lindenufer\, Mauerstraße 10a\, 13597 Berlin
DESCRIPTION:
SUMMARY:Frühstücksbuffet
ORGANIZER:
URL;VALUE=URI:https://www.unionhilfswerk.de/ueber-uns/landesverband-berlin/termine/fruehstuecksbuffet-10/
TRANSP:OPAQUE
END:VEVENT
END:VCALENDAR
