BEGIN:VCALENDAR
VERSION:2.0
PRODID:-//Unionhilfswerk //NONSGML Events //EN
CALSCALE:GREGORIAN
X-WR-CALNAME:Unionhilfswerk
BEGIN:VEVENT
CREATED:20250128T114002
UID:6479
DTSTART;VALUE=DATE:20250521T000000
DTEND;VALUE=DATE:20250521T020000
DTSTAMP:20260422T084058
LOCATION:Käte-Tresenreuther-Haus\, Humboldtstraße 12\, 14193 Berlin
DESCRIPTION:
SUMMARY:Tagung Landesseniorenbeirat
ORGANIZER:
URL;VALUE=URI:https://www.unionhilfswerk.de/ueber-uns/landesverband-berlin/termine/tagung-landesseniorenbeirat/
TRANSP:OPAQUE
END:VEVENT
END:VCALENDAR
