BEGIN:VCALENDAR
VERSION:2.0
PRODID:-//Unionhilfswerk //NONSGML Events //EN
CALSCALE:GREGORIAN
X-WR-CALNAME:Unionhilfswerk
BEGIN:VEVENT
CREATED:20220325T103015
UID:658
DTSTART;VALUE=DATE:20221103T163000
DTEND;VALUE=DATE:20221103T200000
DTSTAMP:20260423T083123
LOCATION:\, Schwiebusser Str. 18\, 10965 Berlin
DESCRIPTION:Fortbildung\r\nMit Christel Schumacher, Dipl. Sozialpädagogin und DCM Evaluatorin  …
SUMMARY:Umgang mit Menschen mit Demenz
ORGANIZER:
URL;VALUE=URI:https://www.unionhilfswerk.de/engagement/termine/vertiefungsmodul-umgang-mit-menschen-mit-demenz/
TRANSP:OPAQUE
END:VEVENT
END:VCALENDAR
