BEGIN:VCALENDAR
VERSION:2.0
PRODID:-//Unionhilfswerk //NONSGML Events //EN
CALSCALE:GREGORIAN
X-WR-CALNAME:Unionhilfswerk
BEGIN:VEVENT
CREATED:20250422T074542
UID:6662
DTSTART;VALUE=DATE:20250505T190000
DTEND;VALUE=DATE:20250505T220000
DTSTAMP:20260422T084229
LOCATION:Archiv der Jugendkulturen e.V.\, Fidicinstr. 3\, 10965 Berlin
DESCRIPTION:Infoveranstaltung\r\nmit Tanja Ehmann, Caro Eickhoff, Florian Hofbauer und Jimi_X
SUMMARY:80 Jahre Befreiung vom Nationalsozialismus – Lernen aus der Geschichte
ORGANIZER:
URL;VALUE=URI:https://www.unionhilfswerk.de/engagement/termine/80-jahre-befreiung-vom-nationalsozialismus-lernen-aus-der-geschichte/
TRANSP:OPAQUE
END:VEVENT
END:VCALENDAR
