BEGIN:VCALENDAR
VERSION:2.0
PRODID:-//Unionhilfswerk //NONSGML Events //EN
CALSCALE:GREGORIAN
X-WR-CALNAME:Unionhilfswerk
BEGIN:VEVENT
CREATED:20250422T131423
UID:6664
DTSTART;VALUE=DATE:20250521T170000
DTEND;VALUE=DATE:20250521T190000
DTSTAMP:20260422T084216
LOCATION:Berlin\, Straße des 17. Juni\,  Berlin
DESCRIPTION:
SUMMARY:Firmenlauf – Unionhilfswerk
ORGANIZER:
URL;VALUE=URI:https://www.unionhilfswerk.de/ueber-uns/landesverband-berlin/interessengemeinschaften/termine/firmenlauf-unionhilfswerk/
TRANSP:OPAQUE
END:VEVENT
END:VCALENDAR
