BEGIN:VCALENDAR
VERSION:2.0
PRODID:-//Unionhilfswerk //NONSGML Events //EN
CALSCALE:GREGORIAN
X-WR-CALNAME:Unionhilfswerk
BEGIN:VEVENT
CREATED:20250422T133320
UID:6669
DTSTART;VALUE=DATE:20250715T140000
DTEND;VALUE=DATE:20250715T160000
DTSTAMP:20260423T082154
LOCATION:Seniorenzentrum Friedrichshain\, Singerstraße 83\, 10243 Berlin
DESCRIPTION:
SUMMARY:BINGO…
ORGANIZER:
URL;VALUE=URI:https://www.unionhilfswerk.de/ueber-uns/landesverband-berlin/termine/bingo-12/
TRANSP:OPAQUE
END:VEVENT
END:VCALENDAR
