BEGIN:VCALENDAR
VERSION:2.0
PRODID:-//Unionhilfswerk //NONSGML Events //EN
CALSCALE:GREGORIAN
X-WR-CALNAME:Unionhilfswerk
BEGIN:VEVENT
CREATED:20250422T140841
UID:6679
DTSTART;VALUE=DATE:20250621T000000
DTEND;VALUE=DATE:20250621T020000
DTSTAMP:20260423T082059
LOCATION:Amerika-Gedenkbibliothek\, Blücherplatz 1\, 10961 Berlin
DESCRIPTION:
SUMMARY:Berliner Seniorenwoche….
ORGANIZER:
URL;VALUE=URI:https://www.unionhilfswerk.de/ueber-uns/landesverband-berlin/termine/berliner-seniorenwoche/
TRANSP:OPAQUE
END:VEVENT
END:VCALENDAR
