BEGIN:VCALENDAR
VERSION:2.0
PRODID:-//Unionhilfswerk //NONSGML Events //EN
CALSCALE:GREGORIAN
X-WR-CALNAME:Unionhilfswerk
BEGIN:VEVENT
CREATED:20250422T143134
UID:6681
DTSTART;VALUE=DATE:20250522T100000
DTEND;VALUE=DATE:20250522T150000
DTSTAMP:20260423T082155
LOCATION:Gemeinschaftshaus Lichtenrade\, Lichtenrader Damm 198 - 202\, 12305 Berlin
DESCRIPTION:
SUMMARY:Seniorenmesse …
ORGANIZER:
URL;VALUE=URI:https://www.unionhilfswerk.de/ueber-uns/landesverband-berlin/termine/seniorenmesse/
TRANSP:OPAQUE
END:VEVENT
END:VCALENDAR
