BEGIN:VCALENDAR
VERSION:2.0
PRODID:-//Unionhilfswerk //NONSGML Events //EN
CALSCALE:GREGORIAN
X-WR-CALNAME:Unionhilfswerk
BEGIN:VEVENT
CREATED:20250423T065943
UID:6700
DTSTART;VALUE=DATE:20250820T110000
DTEND;VALUE=DATE:20250820T130000
DTSTAMP:20260422T084106
LOCATION:Kieke mal\, Hultschiner Damm 84 A\, 12623 Berlin
DESCRIPTION:
SUMMARY:Patientenverfügungsberatung
ORGANIZER:
URL;VALUE=URI:https://www.unionhilfswerk.de/ueber-uns/landesverband-berlin/termine/patientenverfuegungsberatung-9/
TRANSP:OPAQUE
END:VEVENT
END:VCALENDAR
