BEGIN:VCALENDAR
VERSION:2.0
PRODID:-//Unionhilfswerk //NONSGML Events //EN
CALSCALE:GREGORIAN
X-WR-CALNAME:Unionhilfswerk
BEGIN:VEVENT
CREATED:20250423T072306
UID:6714
DTSTART;VALUE=DATE:20250706T140000
DTEND;VALUE=DATE:20250706T160000
DTSTAMP:20260422T084216
LOCATION:Joachim-Fahl-Haus\, Nordufer 24 - 25\, 13351 Berlin
DESCRIPTION:
SUMMARY:Sommerfest im Joachim-Fahl-Haus
ORGANIZER:
URL;VALUE=URI:https://www.unionhilfswerk.de/ueber-uns/landesverband-berlin/termine/sommerfest-im-joachim-fahl-haus-2/
TRANSP:OPAQUE
END:VEVENT
END:VCALENDAR
