BEGIN:VCALENDAR
VERSION:2.0
PRODID:-//Unionhilfswerk //NONSGML Events //EN
CALSCALE:GREGORIAN
X-WR-CALNAME:Unionhilfswerk
BEGIN:VEVENT
CREATED:20250429T101533
UID:6725
DTSTART;VALUE=DATE:20250809T120000
DTEND;VALUE=DATE:20250809T140000
DTSTAMP:20260422T084146
LOCATION:Seniorenfreizeitstätte\, Herthastraße 25 A\, 14193 Berlin
DESCRIPTION:
SUMMARY:Terrassenfest
ORGANIZER:
URL;VALUE=URI:https://www.unionhilfswerk.de/ueber-uns/landesverband-berlin/termine/terrassenfest/
TRANSP:OPAQUE
END:VEVENT
END:VCALENDAR
