BEGIN:VCALENDAR
VERSION:2.0
PRODID:-//Unionhilfswerk //NONSGML Events //EN
CALSCALE:GREGORIAN
X-WR-CALNAME:Unionhilfswerk
BEGIN:VEVENT
CREATED:20250429T101718
UID:6726
DTSTART;VALUE=DATE:20251108T123000
DTEND;VALUE=DATE:20251108T143000
DTSTAMP:20260423T082128
LOCATION:Seniorenfreizeitstätte\, Herthastraße 25 A\, 14193 Berlin
DESCRIPTION:
SUMMARY:Lichtbildvortrag
ORGANIZER:
URL;VALUE=URI:https://www.unionhilfswerk.de/ueber-uns/landesverband-berlin/termine/lichtbildvortrag-2/
TRANSP:OPAQUE
END:VEVENT
END:VCALENDAR
